BEGIN:VCALENDAR
VERSION:2.0
PRODID:-//LeseFan-Events - ECPv6.15.20//NONSGML v1.0//EN
CALSCALE:GREGORIAN
METHOD:PUBLISH
X-ORIGINAL-URL:https://lesung.lesefan-events.de
X-WR-CALDESC:Veranstaltungen für LeseFan-Events
REFRESH-INTERVAL;VALUE=DURATION:PT1H
X-Robots-Tag:noindex
X-PUBLISHED-TTL:PT1H
BEGIN:VTIMEZONE
TZID:Europe/Berlin
BEGIN:DAYLIGHT
TZOFFSETFROM:+0100
TZOFFSETTO:+0200
TZNAME:CEST
DTSTART:20250330T010000
END:DAYLIGHT
BEGIN:STANDARD
TZOFFSETFROM:+0200
TZOFFSETTO:+0100
TZNAME:CET
DTSTART:20251026T010000
END:STANDARD
BEGIN:DAYLIGHT
TZOFFSETFROM:+0100
TZOFFSETTO:+0200
TZNAME:CEST
DTSTART:20260329T010000
END:DAYLIGHT
BEGIN:STANDARD
TZOFFSETFROM:+0200
TZOFFSETTO:+0100
TZNAME:CET
DTSTART:20261025T010000
END:STANDARD
BEGIN:DAYLIGHT
TZOFFSETFROM:+0100
TZOFFSETTO:+0200
TZNAME:CEST
DTSTART:20270328T010000
END:DAYLIGHT
BEGIN:STANDARD
TZOFFSETFROM:+0200
TZOFFSETTO:+0100
TZNAME:CET
DTSTART:20271031T010000
END:STANDARD
END:VTIMEZONE
BEGIN:VEVENT
DTSTART;TZID=Europe/Berlin:20260327T193000
DTEND;TZID=Europe/Berlin:20260327T210000
DTSTAMP:20260420T172444
CREATED:20260209T180448Z
LAST-MODIFIED:20260228T084840Z
UID:430-1774639800-1774645200@lesung.lesefan-events.de
SUMMARY:Online-Lesung 27.03.2026
DESCRIPTION:Online-Lesung mit der Indi-Autorin – Monika Deinhart📅 27. März 2026 | 19:30 Uhr \n\nLive-Lesungen & Q&A\nAustausch zwischen Autoren & Community\nModeriert & strukturiert\nGenre: wird noch bekannt gegeben\nOnline via Zoom\n\n\n🎟 **Jetzt Ticket sichern**\nDie Buchung erfolgt über unseren Shop: \n👉 März Lesung
URL:https://lesung.lesefan-events.de/event/online-lesung-27-03-2026/
LOCATION:Online via Zoom\, United States
CATEGORIES:online-lesung
ATTACH;FMTTYPE=image/jpeg:https://lesung.lesefan-events.de/wp-content/uploads/2025/12/Buch-Mikro_1555177706-scaled.jpeg
ORGANIZER;CN="LeseFan Events":MAILTO:info@lesefan-events.de
END:VEVENT
END:VCALENDAR